Workbook

Sheet Price sheet
A1: Door pricing:
A3: Door style | B3: Height (MM) | C3: Width (MM) | D3: Price (£) | E3: Price with primer (£) | F3: NOTES:
A5: Shaker door | B5: 700 | C5: 500 | D5: =ROUNDUP('Shaker door'!J24,0) -> 62 | E5: =ROUNDUP('Shaker door'!J25,0) -> 74 | F5: Minimum height 250mm, minimum width 250mm.
F6: Maximum height 1000mm, maximum width 650mm.
A8: Shaker RAISED PANEL door | B8: 700 | C8: 500 | D8: =ROUNDUP('Shaker RAISED PANEL door'!J24,0) -> 85 | E8: =ROUNDUP('Shaker RAISED PANEL door'!J25,0) -> 101 | F8: Minimum height 250mm, minimum width 250mm.
F9: Maximum height 1000mm, maximum width 650mm.
B11: Primer | C11: Raised panel | D11: Hinges | E11: Price
B12: None | C12: No | D12: None | E12: =(IF(D12="Two",10,IF(D12="Four",20,0))+IF(AND(B12<>"None",C12="Yes"),E8,IF(AND(B12<>"None",C12="No"),E5,IF(AND(B12="None",C12="Yes"),D8,D5))))*B15+(IF(C15="Yes",(B15*10)+10,0)) -> 62
B14: Quantity | C14: Delivery
B15: 1 | C15: No

Sheet Costs
A2: Mouister Resistant MDF Cost.
A3: Thickness | B3: Sheet Cost | C3: Total cost (Incl. VAT) | D3: Sqm of the board | E3: £ Cost /m2 | F3: Mark up
A4: 6mm | B4: 20.48 | C4: =B4*1.2 -> 24.576 | D4: 2.88 | E4: =C4/D4 -> 8.5333333 | F4: 1.5
A5: 18mm | B5: 32.24 | C5: =B5*1.2 -> 38.688 | D5: 2.88 | E5: =C5/D5 -> 13.433333 | F5: 1.5
A6: 22mm | B6: 53.6 | C6: =B6*1.2 -> 64.32 | D6: 2.88 | E6: =C6/D6 -> 22.333333 | F6: 1.5
A8: Primer Cost. | B8: Coverage per SQM | C8: £ per litre | D8: Mark up
A9: Teknos primer | B9: 8 | C9: 5 | D9: 3
A11: Labour Cost.
A12: Average cost of production worker | B12: NI factor | C12: Holiday factor working 220 days out of 260 days | D12: Sickness factor | E12: Pensions | F12: Efficiency rate at 80
A13: 15.4 | B13: 1.13 | C13: 1.182 | D13: 1.02 | E13: 1.05 | F13: 1.25
A16: Shaker 1 panel door mark up
A17: 6
A19: 1 x 6mm Panel mark up
A20: 4
A22: Rasied panel mark up
A23: 7

Sheet Shaker door
A1: ='Price sheet'!A5 -> Shaker door
A2: Ratio | B2: Set up time ( in mins ) | C2: Processing the door ( in mins ). | D2: Size ( in m2 )
A3: =C3/D3 -> 22.857143 | B3: 10 | C3: 8 | D3: 0.35
A6: Cost of worker | J6: Actual minute rate
J7: =Costs!A13*Costs!B13*Costs!C13*Costs!D13*Costs!E13*Costs!F13/60 -> 0.45894947
A9: Cost for labour
A10: Door style | B10: Width (M) | C10: Height (M) | D10: Size (M2) | E10: Time (mins) | F10: Rate (£/Min) | G10: Cost (£) | H10: Mark up | I10: Final Price (£) | J10: Selling Price (£)
A11: =A1 -> Shaker door | B11: ='Price sheet'!C5/1000 -> 0.5 | C11: ='Price sheet'!B5/1000 -> 0.7 | D11: =B11*C11 -> 0.35 | E11: =(A3*D11)+B3-E12 -> 17 | F11: =J7 -> 0.45894947 | G11: =E11*F11 -> 7.802141 | H11: =Costs!A17 -> 6 | I11: =G11*H11 -> 46.812846 | J11: =I11+I12 -> 48.648644
A12: 6mm panel | B12: =B11-0.14 -> 0.36 | C12: =C11-0.14 -> 0.56 | D12: =B12*C12 -> 0.2016 | E12: 1 | F12: =J7 -> 0.45894947 | G12: =F12*E12 -> 0.45894947 | H12: =Costs!A20 -> 4 | I12: =G12*H12 -> 1.8357979
A14: Cost of materials
A15: Material name | B15: Size | C15: Waste + | D15: £ Cost /m2 | G15: Cost (£) | H15: Mark up | I15: Final Price (£) | J15: Selling Price (£)
A16: 18mm MR | B16: =D11 -> 0.35 | C16: 0.3 | D16: =Costs!E5 -> 13.433333 | G16: =B16*D16*(1+C16) -> 6.1121667 | H16: =Costs!F5 -> 1.5 | I16: =G16*H16 -> 9.16825 | J16: =I16+I17 -> 12.522874
A17: 6mm MR | B17: =D12 -> 0.2016 | C17: 0.3 | D17: =Costs!E4 -> 8.5333333 | G17: =B17*D17*(1+C17) -> 2.236416 | H17: =Costs!F4 -> 1.5 | I17: =H17*G17 -> 3.354624
A19: Cost of primer | B19: Waste+ | C19: Size (M2) | D19: £ Cost per SQM | E19: Cost of worker per min | F19: Time (mins) | G19: Cost (£) | H19: Mark up | J19: Selling price (£)
A20: Teknos primer ( any colour ) | B20: 0.3 | C20: =D11*2 -> 0.7 | D20: =(Costs!B9/Costs!C9)*'Shaker door'!C20 -> 1.12 | E20: =J7 -> 0.45894947 | F20: 6 | G20: =E20*F20+D20*(1+B20) -> 4.2096968 | H20: =Costs!D9 -> 3 | J20: =G20*H20 -> 12.62909
A21: * £5 per litre and 8sqm per litre
A23: Total cost | B23: Cost | C23: GP% | D23: Selling price | J23: Selling price (£)
A24: =A1 -> Shaker door | B24: =G16+G11 -> 13.914308 | C24: =(D24-G16-G11)/J24 -> 0.77253617 | D24: =J11+J16 -> 61.171518 | J24: =IF(B24=G11,0,D24) -> 61.171518
A25: Door with Primer: | B25: =G11+G16 -> 13.914308 | C25: =(D24-G16-G11)/J24 -> 0.77253617 | D25: =J11+J16 -> 61.171518 | J25: =IF(B25=G12,0,D25)+J20 -> 73.800608
A27: Percentage cost of labour | C27: Percentage cost of materials
A28: =A1 -> Shaker door | B28: =G11/J24 -> 0.12754532 | C28: =A1 -> Shaker door | D28: =G16/J24 -> 0.099918506

Sheet Shaker RAISED PANEL door
A1: ='Price sheet'!A8 -> Shaker RAISED PANEL door
A2: Ratio | B2: Set up time ( in mins ) | C2: Processing the door ( in mins ). | D2: Size ( in m2 )
A3: =C3/D3 -> 37.142857 | B3: 10 | C3: 13 | D3: 0.35
A6: Cost of worker | J6: Actual minute rate
J7: =Costs!A13*Costs!B13*Costs!C13*Costs!D13*Costs!E13*Costs!F13/60 -> 0.45894947
A9: Cost for labour
A10: Door style | B10: Width (M) | C10: Height (M) | D10: Size (M2) | E10: Time (mins) | F10: Rate (£/Min) | G10: Cost (£) | H10: Mark up | I10: Final Price (£) | J10: Selling Price (£)
A11: =A1 -> Shaker RAISED PANEL door | B11: ='Price sheet'!C8/1000 -> 0.5 | C11: ='Price sheet'!B8/1000 -> 0.7 | D11: =B11*C11 -> 0.35 | E11: =(A3*D11)+B3-E12 -> 21 | F11: =J7 -> 0.45894947 | G11: =E11*F11 -> 9.6379389 | H11: =Costs!A17 -> 6 | I11: =G11*H11 -> 57.827633 | J11: =I11+I12 -> 64.252926
A12: 18MM panel | B12: =B11-0.14 -> 0.36 | C12: =C11-0.14 -> 0.56 | D12: =B12*C12 -> 0.2016 | E12: 2 | F12: =J7 -> 0.45894947 | G12: =F12*E12 -> 0.91789894 | H12: =Costs!A23 -> 7 | I12: =G12*H12 -> 6.4252926
A14: Cost of materials
A15: Material name | B15: Size | C15: Waste + | D15: £ Cost /m2 | G15: Cost (£) | H15: Mark up | I15: Final Price (£) | J15: Selling Price (£)
A16: 22mm MR | B16: =D11 -> 0.35 | C16: 0.3 | D16: =Costs!E6 -> 22.333333 | G16: =B16*D16*(1+C16) -> 10.161667 | H16: =Costs!F5 -> 1.5 | I16: =G16*H16 -> 15.2425 | J16: =I16+I17 -> 20.523412
A17: 18mm MR | B17: =D12 -> 0.2016 | C17: 0.3 | D17: =Costs!E5 -> 13.433333 | G17: =B17*D17*(1+C17) -> 3.520608 | H17: =Costs!F4 -> 1.5 | I17: =H17*G17 -> 5.280912
A19: Cost of primer | B19: Waste+ | C19: Size (M2) | D19: £ Cost per SQM | E19: Cost of worker per min | F19: Time (mins) | G19: Cost (£) | H19: Mark up | J19: Selling price (£)
A20: Teknos primer ( any colour ) | B20: 0.3 | C20: =D11*2 -> 0.7 | D20: =(Costs!B9/Costs!C9)*'Shaker RAISED PANEL door'!C20 -> 1.12 | E20: =J7 -> 0.45894947 | F20: 8 | G20: =E20*F20+D20*(1+B20) -> 5.1275958 | H20: =Costs!D9 -> 3 | J20: =G20*H20 -> 15.382787
A21: * £5 per litre and 8sqm per litre
A23: Total cost | B23: Cost | C23: GP% | D23: Selling price | J23: Selling price (£)
A24: =A1 -> Shaker RAISED PANEL door | B24: =G16+G11 -> 19.799606 | C24: =(D24-G16-G11)/J24 -> 0.76644892 | D24: =J11+J16 -> 84.776338 | J24: =IF(B24=G11,0,D24) -> 84.776338
A25: Door with Primer: | B25: =G11+G16 -> 19.799606 | C25: =(D24-G16-G11)/J24 -> 0.76644892 | D25: =J11+J16 -> 84.776338 | J25: =IF(B25=G12,0,D25)+J20 -> 100.15913
A27: Percentage cost of labour | C27: Percentage cost of materials
A28: =A1 -> Shaker RAISED PANEL door | B28: =G11/J24 -> 0.11368666 | C28: =A1 -> Shaker RAISED PANEL door | D28: =G16/J24 -> 0.11986442
